BEGIN:VCALENDAR
VERSION:2.0
PRODID:-//The Seabird Resort - ECPv5.2.1.1//NONSGML v1.0//EN
CALSCALE:GREGORIAN
METHOD:PUBLISH
X-WR-CALNAME:The Seabird Resort
X-ORIGINAL-URL:https://theseabirdresort.com
X-WR-CALDESC:Events for The Seabird Resort
BEGIN:VTIMEZONE
TZID:UTC
BEGIN:STANDARD
TZOFFSETFROM:+0000
TZOFFSETTO:+0000
TZNAME:UTC
DTSTART:20220101T000000
END:STANDARD
END:VTIMEZONE
BEGIN:VEVENT
DTSTART;TZID=UTC:20221202T173000
DTEND;TZID=UTC:20221202T190000
DTSTAMP:20260421T143357
CREATED:20220426T184705Z
LAST-MODIFIED:20240318T232935Z
UID:7349-1670002200-1670007600@theseabirdresort.com
SUMMARY:Paint\, Sip And Gaze
DESCRIPTION:Find inspiration from our coastal views and paint a masterpiece in a class led by local Oceanside artists.  \n  \nActivity Includes: Painting supplies\, 11×14 canvas\, step-by-step instruction\, and two glasses of wine. Alcoholic and non-alcoholic beverages available for purchase.\n \n  \nMake A Reservation\n\nMeet at The Shelter Club at The Seabird Ocean Resort & Spa.
URL:https://theseabirdresort.com/events/4093-2022-12-02/2022-12-02/
LOCATION:The Seabird Ocean Resort & Spa\, 101 Mission Ave\, Oceanside\, 92054\, United States
ATTACH;FMTTYPE=image/jpeg:https://theseabirdresort.com/wp-content/uploads/2022/04/14184829/joanna-kosinska-MczRMzUwwPs-unsplash-scaled.jpg
END:VEVENT
BEGIN:VEVENT
DTSTART;TZID=UTC:20221210T070000
DTEND;TZID=UTC:20221210T120000
DTSTAMP:20260421T143357
CREATED:20220819T161824Z
LAST-MODIFIED:20240708T231114Z
UID:6526-1670655600-1670673600@theseabirdresort.com
SUMMARY:Farm Fresh Brunch At Piper
DESCRIPTION:The best way to enjoy your weekend is with brunch! Savor a farm fresh buffet at Piper with an array of baked goods\, proteins\, whole grains and a variety of fresh salads\, or indulge in a fried chicken and waffle bar\, and much more!  \n  \nMake A Reservation
URL:https://theseabirdresort.com/events/brunch-at-piper/2022-12-10/
LOCATION:Piper\, 105 Mission Ave\, Oceanside\, CA\, 92054\, United States
ATTACH;FMTTYPE=image/jpeg:https://theseabirdresort.com/wp-content/uploads/2024/06/24230028/Piper_26.jpg
END:VEVENT
END:VCALENDAR