BEGIN:VCALENDAR
VERSION:2.0
PRODID:-//The Seabird Resort - ECPv5.2.1.1//NONSGML v1.0//EN
CALSCALE:GREGORIAN
METHOD:PUBLISH
X-WR-CALNAME:The Seabird Resort
X-ORIGINAL-URL:https://theseabirdresort.com
X-WR-CALDESC:Events for The Seabird Resort
BEGIN:VTIMEZONE
TZID:UTC
BEGIN:STANDARD
TZOFFSETFROM:+0000
TZOFFSETTO:+0000
TZNAME:UTC
DTSTART:20260101T000000
END:STANDARD
END:VTIMEZONE
BEGIN:VEVENT
DTSTART;TZID=UTC:20260214T170000
DTEND;TZID=UTC:20260214T210000
DTSTAMP:20260425T113828
CREATED:20260129T220456Z
LAST-MODIFIED:20260129T220926Z
UID:25811-1771088400-1771102800@theseabirdresort.com
SUMMARY:Valentine’s Day Dinner at Piper
DESCRIPTION:Gather at Piper this Valentine’s Day for a dinner shaped by seasonal ingredients and coastal California flavors. The evening invites guests to slow down\, enjoy each course\, and spend time together by the ocean. \nValentine’s Day dinner at Piper offers a welcoming setting for connection\, conversation\, and a memorable night out. \nRESERVE NOW ON OPENTABLE
URL:https://theseabirdresort.com/events/valentines-day-dinner-at-piper/
LOCATION:Piper\, 105 Mission Ave\, Oceanside\, CA\, 92054\, United States
ATTACH;FMTTYPE=image/jpeg:https://theseabirdresort.com/wp-content/uploads/2026/01/29220425/piper-valentines-SB.jpg
END:VEVENT
END:VCALENDAR